Workbook
Name ALABAMA: __dep_lists__!$A$2:$A$33
Name ALASKA: __dep_lists__!$B$2:$B$5
Name ARIZONA: __dep_lists__!$C$2:$C$10
Name ARKANSAS: __dep_lists__!$D$2:$D$19
Name CALIFORNIA: __dep_lists__!$E$2:$E$38
Name COLORADO: __dep_lists__!$F$2:$F$19
Name CONNECTICUT: __dep_lists__!$G$2:$G$8
Name DELAWARE: __dep_lists__!$H$2:$H$4
Name DISTRICT_OF_COLUMBIA: __dep_lists__!$I$2:$I$2
Name FLORIDA: __dep_lists__!$J$2:$J$47
Name GEORGIA: __dep_lists__!$K$2:$K$75
Name GUAM: __dep_lists__!$L$2:$L$2
Name HAWAII: __dep_lists__!$M$2:$M$5
Name IDAHO: __dep_lists__!$N$2:$N$16
Name ILLINOIS: __dep_lists__!$O$2:$O$39
Name INDIANA: __dep_lists__!$P$2:$P$45
Name IOWA: __dep_lists__!$Q$2:$Q$24
Name KANSAS: __dep_lists__!$R$2:$R$22
Name KENTUCKY: __dep_lists__!$S$2:$S$40
Name LOUISIANA: __dep_lists__!$T$2:$T$38
Name MAINE: __dep_lists__!$U$2:$U$7
Name MARYLAND: __dep_lists__!$V$2:$V$19
Name MASSACHUSETTS: __dep_lists__!$W$2:$W$13
Name MICHIGAN: __dep_lists__!$X$2:$X$32
Name MINNESOTA: __dep_lists__!$Y$2:$Y$28
Name MISSISSIPPI: __dep_lists__!$Z$2:$Z$22
Name MISSOURI: __dep_lists__!$AA$2:$AA$36
Name MONTANA: __dep_lists__!$AB$2:$AB$12
Name NEBRASKA: __dep_lists__!$AC$2:$AC$13
Name NEVADA: __dep_lists__!$AD$2:$AD$7
Name NEW_HAMPSHIRE: __dep_lists__!$AE$2:$AE$5
Name NEW_JERSEY: __dep_lists__!$AF$2:$AF$22
Name NEW_MEXICO: __dep_lists__!$AG$2:$AG$9
Name NEW_YORK: __dep_lists__!$AH$2:$AH$39
Name NORTH_CAROLINA: __dep_lists__!$AI$2:$AI$46
Name NORTH_DAKOTA: __dep_lists__!$AJ$2:$AJ$10
Name OHIO: __dep_lists__!$AK$2:$AK$43
Name OKLAHOMA: __dep_lists__!$AL$2:$AL$20
Name OREGON: __dep_lists__!$AM$2:$AM$17
Name PENNSYLVANIA: __dep_lists__!$AN$2:$AN$34
Name PUERTO_RICO: __dep_lists__!$AO$2:$AO$67
Name RHODE_ISLAND: __dep_lists__!$AP$2:$AP$6
Name SOUTH_CAROLINA: __dep_lists__!$AQ$2:$AQ$27
Name SOUTH_DAKOTA: __dep_lists__!$AR$2:$AR$10
Name STATE_LIST: __dep_lists__!$A$1:$BB$1
Name TENNESSEE: __dep_lists__!$AS$2:$AS$45
Name TEXAS: __dep_lists__!$AT$2:$AT$87
Name U_S__VIRGIN_ISLANDS: __dep_lists__!$AU$2:$AU$2
Name UTAH: __dep_lists__!$AV$2:$AV$11
Name VERMONT: __dep_lists__!$AW$2:$AW$5
Name VIRGINIA: __dep_lists__!$AX$2:$AX$81
Name WASHINGTON: __dep_lists__!$AY$2:$AY$21
Name WEST_VIRGINIA: __dep_lists__!$AZ$2:$AZ$22
Name WISCONSIN: __dep_lists__!$BA$2:$BA$28
Name WYOMING: __dep_lists__!$BB$2:$BB$4

Sheet NEW Calculator
A1: Table 1. Veteran Directed Care (VDC) Case Mix Budget, Administrative Fee, and Assessment Fee Calculator Fiscal Year (FY) 2027 Effective for new referrals from October 1, 2026 through September 30, 2027. These rates do not apply in Washington State; a separate calculator will be developed for Washington State.
A2: State | B2: Alabama | C2: Tip: Type or select the state from the drop-down menu in B2 first, then type or select the county/city from the drop-down menu in B3. County/city names in B3 are alphabetized. Rural counties are not specifically named; they will receive the Rural (Not listed as urban county) rate. If you change the state, reselect B3.
A3: County or City | B3: AUTAUGA
A4: Case Mix Level | B4: L
A5: Start Date of Standard Episode of Care (SEOC) (MM/DD/YYYY) | B5: 46296
A6: End Date of SEOC (MM/DD/YYYY) | B6: 46660
A7: Number of Months in SEOC | B7: =IF(B5>B6,0,IF(EOMONTH(B5,0)=EOMONTH(B6,0),(B6-B5+1)/DAY(EOMONTH(B5,0)),(EOMONTH(B5,0)-B5+1)/DAY(EOMONTH(B5,0))+12*(YEAR(B6)-YEAR(B5))+MONTH(B6)-MONTH(B5)-1+DAY(B6)/DAY(EOMONTH(B6,0)))) -> 12
A8: Prorated First Month Veteran Budget | B8: =ROUND(IF(AND(B5>0,B6>0),((('NEW Reference'!T4+1-DAY('NEW Calculator'!B5))/'NEW Reference'!T4)*B9),"Enter Authorization Dates"),0) -> 1148
A9: Average Monthly Veteran Budget | B9: =ROUND(IFERROR(INDEX(List!G:S,MATCH('NEW Reference'!$S$4,List!$X:X,0),MATCH('NEW Calculator'!$B$4,List!$G$12:$S$12,0)),"Check the County"),0) -> 1148
A10: Monthly Administrative Fee | B10: =ROUND(IFERROR(INDEX(List!T:T,MATCH('NEW Reference'!$S$4,List!$X:X,0)),"Check the County"),0) -> 745
A11: Average Monthly VA Obligation | B11: =ROUND(B9+B10,0) -> 1893
A13: Total Veteran Budget for SEOC | B13: =ROUND(IF(AND(B5>0,B6>0),B9*B7,"Enter Authorization Dates"),0) -> 13776
A15: Full Assessment Fee | B15: =ROUND(IFERROR(INDEX(List!$U:U,MATCH('NEW Reference'!S4,List!$X:X,0)),"Check the County"),0) -> 1050
A16: Partial Assessment Fee | B16: =ROUND(B15/2,0) -> 525
A18: Total VA Obligation for SEOC (if includes Full Assessment Fee) | B18: =ROUND(IF(AND(B5>0,B6>0),B20+B15,"Enter Authorization Dates"),0) -> 23766
A20: Total VA Obligation for SEOC (if DOES NOT include Full Assessment Fee) | B20: =ROUND(IF(AND(B5>0,B6>0),B13+('NEW Reference'!V4*B10),"Enter Authorization Dates"),0) -> 22716
C21: Table 2. FY 2027 VDC Case Mix Rate Calculator steps to determine VDC rates and fees
C22: Steps to determine VDC rates and fees:
C23: 1. Click on the green colored cell that lists the specific state (B1). Click on the drop-down arrow next to the selected cell. Scroll through the list to find and select the state of choice. You may also type the state in the cell (B1), but spelling must be correct (not case sensitive).
C24: 2. Click on the blue colored cell that lists the specific county or city (B2). Click on the drop-down arrow next to the selected cell. Scroll through the list to find and select the county or city of choice. You may also type the county or city in the cell (B2), but spelling must be correct (not case sensitive). Note: all county and city names in the USA are listed, not just those in the selected state.
C25: 3. Click on the orange colored cell that lists the specific case mix level (B3). Click on the drop-down arrow next to the selected cell. Scroll through the list to find and select the case mix level of choice. You may also type the case mix level in the cell (B3, not case sensitive). *Case Mix "V" is a maximum rate for ventilator-dependent Veterans. Please contact the VACO PLTSS Quad (VHAPurchasedLTSSSupportGroup@va.gov) if attempting to enroll a Veteran at this Case Mix Level.
C26: 4. Click on the yellow colored cell that lists the specific start date of the standard episode of care or SEOC (B4). Enter the start date of the SEOC using the format MM/DD/YYYY. If this is the Veteran's first VDC SEOC, enter the date the first spending plan is signed (the date the Veteran can start paying their workers) - this will give you the proper Prorated First Month Veteran Budget, Total Veteran Budget for SEOC, and Total VA Obligation for SEOC.
C27: 5. Click on the light blue colored cell that lists the specific end date of the standard episode of care or SEOC (B5). Enter the end date of the SEOC using the format MM/DD/YYYY. SEOCs that do not end at the last day of the month will have the final month prorated. This will be reflected in the Total Veteran Budget for SEOC and Total VA Obligation for SEOC.
C28: Table 3. Notes:
C29: If you have trouble with this tool, you can still use the "Rates" tab to manually search for specific county based rates and fees.
C30: Please reference the VDC Field Guidebook (updated July 14, 2026) for guidance and responsibilities surrounding Case Mix Rates (found here: https://vaww.vrm.km.va.gov/system/templates/selfservice/va_kanew/help/agent/locale/en-US/portal/554400000001031/content/554400000225571/FGB-Chapter-8-050802-Office-of-Geriatrics-and-Extended-Care-GEC).
C31: Once rows 1-3 (State, County/City, and Case Mix Level) are filled out, the Average Monthly Rates, Administrative Fee, and Assessment Fee will be populated. Entering the SEOC dates (rows 4-5) will populate the Total Budgets, Total Months, and Prorated First Month Budget.
C32: This tool is effective with SEOCs which were established in FY2020 for medical center level budgeting purposes, but SEOCs are not bound by fiscal years.
... C54: Total VA Obligation for SEOC (if DOES NOT include Initial Assessment Fee): Total amount of money to list in the referral packet to cover all associated expenses for a Veteran ALREADY enrolled in VDC for entire authorization period.

Sheet List
A1: Table 5. Veteran Directed Care Monthly Average Case Mix Budget, Administrative Fee, and Assessment Fee List
A2: Effective for new referrals from October 1, 2026 through September 30, 2027.
A3: Notes:
A4: -See "Calculator" tab for easy to use tool identifying rates and fees to use in authorization. Otherwise follow steps below for standard way to find rates and fees
A5: -The Average Monthly Veteran Budget by Case Mix Level is listed in columns H-T. The Monthly Administrative Fee in column U is the same within a county regardless of case mix level. The Average Monthly VA Expense is equal to the sum of the Average Monthly Veteran Budget and the Monthly Administrative Fee.
A6: -Multiply Average Monthly VA Expense by months in the authorization to represent Total VA Obligation for Authorization (without Assessment Fee included)
A7: -Includes both Urban and Rural counties. Search for county of interest using ctrl+"F"
G11: Average Monthly Veteran Budget by Case Mix Level
A12: Core Based Statistical Area (CBSA) Code | B12: CBSA or Statewide Rural Name | C12: County or City Name | D12: State | E12: Urban/ Rural | F12: Wage Index | G12: L | H12: A | I12: B | J12: C | K12: D | L12: E | M12: F | N12: G | O12: H | P12: I | Q12: J | R12: K | S12: V* | T12: Monthly Administrative Fee | U12: Assessment Fee | V12: Partial Assessment Fee | AC12: Value to Paste | AD12: CBSA | AE12: CBSA or Statewide Rural Name | AF12: FY 26 Wage Index After -5% Floor Adjustment Applied
A13: - | B13: National | C13: National Rate | F13: 1 | G13: =ROUND(('NEW Reference'!B$6*List!$F13)+'NEW Reference'!B$7,0) -> 1344 | H13: =ROUND(('NEW Reference'!C$6*List!$F13)+'NEW Reference'!C$7,0) -> 2004 | I13: =ROUND(('NEW Reference'!D$6*List!$F13)+'NEW Reference'!D$7,0) -> 2402 | J13: =ROUND(('NEW Reference'!E$6*List!$F13)+'NEW Reference'!E$7,0) -> 2969 | K13: =ROUND(('NEW Reference'!F$6*List!$F13)+'NEW Reference'!F$7,0) -> 3094 | L13: =ROUND(('NEW Reference'!G$6*List!$F13)+'NEW Reference'!G$7,0) -> 3502 | M13: =ROUND(('NEW Reference'!H$6*List!$F13)+'NEW Reference'!H$7,0) -> 3636 | N13: =ROUND(('NEW Reference'!I$6*List!$F13)+'NEW Reference'!I$7,0) -> 3778 | ... V13: =ROUND(('NEW Reference'!Q$6*List!$F13)+'NEW Reference'!Q$7,0) -> 615 | AC13: =IFERROR(INDEX($AH$12:$AH$3260,MATCH($A13,$AF$12:$AF$3260,0)),"") | AD13: 02 | AE13: Alaska | AF13: 1.1328
A14: 11260 | B14: Anchorage, AK | C14: ANCHORAGE | D14: Alaska | E14: Urban | F14: =IFERROR(INDEX($AF:$AF,MATCH($A14,$AD:$AD,0)),"") -> 1.1328 | G14: =ROUND(('NEW Reference'!B$6*List!$F14)+'NEW Reference'!B$7,0) -> 1478 | H14: =ROUND(('NEW Reference'!C$6*List!$F14)+'NEW Reference'!C$7,0) -> 2204 | I14: =ROUND(('NEW Reference'!D$6*List!$F14)+'NEW Reference'!D$7,0) -> 2641 | J14: =ROUND(('NEW Reference'!E$6*List!$F14)+'NEW Reference'!E$7,0) -> 3265 | K14: =ROUND(('NEW Reference'!F$6*List!$F14)+'NEW Reference'!F$7,0) -> 3401 | L14: =ROUND(('NEW Reference'!G$6*List!$F14)+'NEW Reference'!G$7,0) -> 3850 | M14: =ROUND(('NEW Reference'!H$6*List!$F14)+'NEW Reference'!H$7,0) -> 3997 | N14: =ROUND(('NEW Reference'!I$6*List!$F14)+'NEW Reference'!I$7,0) -> 4154 | ... V14: =ROUND(('NEW Reference'!Q$6*List!$F14)+'NEW Reference'!Q$7,0) -> 676 | X14: =CONCATENATE(Y14, Z14, AA14) -> ANCHORAGE, Alaska | Y14: ANCHORAGE | Z14: , | AA14: Alaska | AC14: =IFERROR(INDEX($AF:$AF,MATCH($A14,$AD:$AD,0)),"") -> 1.1328 | AD14: 01 | AE14: Alabama | AF14: 0.6367
A15: 21820 | B15: Fairbanks-College, AK | C15: FAIRBANKS NORTH STAR | D15: Alaska | E15: Urban | F15: =IFERROR(INDEX($AF:$AF,MATCH($A15,$AD:$AD,0)),"") -> 1.1328 | G15: =ROUND(('NEW Reference'!B$6*List!$F15)+'NEW Reference'!B$7,0) -> 1478 | H15: =ROUND(('NEW Reference'!C$6*List!$F15)+'NEW Reference'!C$7,0) -> 2204 | I15: =ROUND(('NEW Reference'!D$6*List!$F15)+'NEW Reference'!D$7,0) -> 2641 | J15: =ROUND(('NEW Reference'!E$6*List!$F15)+'NEW Reference'!E$7,0) -> 3265 | K15: =ROUND(('NEW Reference'!F$6*List!$F15)+'NEW Reference'!F$7,0) -> 3401 | L15: =ROUND(('NEW Reference'!G$6*List!$F15)+'NEW Reference'!G$7,0) -> 3850 | M15: =ROUND(('NEW Reference'!H$6*List!$F15)+'NEW Reference'!H$7,0) -> 3997 | N15: =ROUND(('NEW Reference'!I$6*List!$F15)+'NEW Reference'!I$7,0) -> 4154 | ... V15: =ROUND(('NEW Reference'!Q$6*List!$F15)+'NEW Reference'!Q$7,0) -> 676 | X15: =CONCATENATE(Y15, Z15, AA15) -> FAIRBANKS NORTH STAR, Alaska | Y15: FAIRBANKS NORTH STAR | Z15: , | AA15: Alaska | AC15: =IFERROR(INDEX($AF:$AF,MATCH($A15,$AD:$AD,0)),"") -> 1.1328 | AD15: 04 | AE15: Arkansas | AF15: 0.7296
A16: 11260 | B16: Anchorage, AK | C16: MATANUSKA-SUSITNA | D16: Alaska | E16: Urban | F16: =IFERROR(INDEX($AF:$AF,MATCH($A16,$AD:$AD,0)),"") -> 1.1328 | G16: =ROUND(('NEW Reference'!B$6*List!$F16)+'NEW Reference'!B$7,0) -> 1478 | H16: =ROUND(('NEW Reference'!C$6*List!$F16)+'NEW Reference'!C$7,0) -> 2204 | I16: =ROUND(('NEW Reference'!D$6*List!$F16)+'NEW Reference'!D$7,0) -> 2641 | J16: =ROUND(('NEW Reference'!E$6*List!$F16)+'NEW Reference'!E$7,0) -> 3265 | K16: =ROUND(('NEW Reference'!F$6*List!$F16)+'NEW Reference'!F$7,0) -> 3401 | L16: =ROUND(('NEW Reference'!G$6*List!$F16)+'NEW Reference'!G$7,0) -> 3850 | M16: =ROUND(('NEW Reference'!H$6*List!$F16)+'NEW Reference'!H$7,0) -> 3997 | N16: =ROUND(('NEW Reference'!I$6*List!$F16)+'NEW Reference'!I$7,0) -> 4154 | ... V16: =ROUND(('NEW Reference'!Q$6*List!$F16)+'NEW Reference'!Q$7,0) -> 676 | X16: =CONCATENATE(Y16, Z16, AA16) -> MATANUSKA-SUSITNA, Alaska | Y16: MATANUSKA-SUSITNA | Z16: , | AA16: Alaska | AC16: =IFERROR(INDEX($AF:$AF,MATCH($A16,$AD:$AD,0)),"") -> 1.1328 | AD16: 03 | AE16: Arizona | AF16: 0.8539
A17: 02 | B17: Alaska | C17: Rural (Not listed as urban county) | D17: Alaska | E17: Rural | F17: =IFERROR(INDEX($AF:$AF,MATCH($A17,$AD:$AD,0)),"") -> 1.1328 | G17: =ROUND(('NEW Reference'!B$6*List!$F17)+'NEW Reference'!B$7,0) -> 1478 | H17: =ROUND(('NEW Reference'!C$6*List!$F17)+'NEW Reference'!C$7,0) -> 2204 | I17: =ROUND(('NEW Reference'!D$6*List!$F17)+'NEW Reference'!D$7,0) -> 2641 | J17: =ROUND(('NEW Reference'!E$6*List!$F17)+'NEW Reference'!E$7,0) -> 3265 | K17: =ROUND(('NEW Reference'!F$6*List!$F17)+'NEW Reference'!F$7,0) -> 3401 | L17: =ROUND(('NEW Reference'!G$6*List!$F17)+'NEW Reference'!G$7,0) -> 3850 | M17: =ROUND(('NEW Reference'!H$6*List!$F17)+'NEW Reference'!H$7,0) -> 3997 | N17: =ROUND(('NEW Reference'!I$6*List!$F17)+'NEW Reference'!I$7,0) -> 4154 | ... V17: =ROUND(('NEW Reference'!Q$6*List!$F17)+'NEW Reference'!Q$7,0) -> 676 | X17: =CONCATENATE(Y17, Z17, AA17) -> Rural (Not listed as urban county), Alaska | Y17: Rural (Not listed as urban county) | Z17: , | AA17: Alaska | AC17: =IFERROR(INDEX($AF:$AF,MATCH($A17,$AD:$AD,0)),"") -> 1.1328 | AD17: 05 | AE17: California | AF17: 1.2775
A18: 33860 | B18: Montgomery, AL | C18: AUTAUGA | D18: Alabama | E18: Urban | F18: =IFERROR(INDEX($AF:$AF,MATCH($A18,$AD:$AD,0)),"") -> 0.805125 | G18: =ROUND(('NEW Reference'!B$6*List!$F18)+'NEW Reference'!B$7,0) -> 1148 | H18: =ROUND(('NEW Reference'!C$6*List!$F18)+'NEW Reference'!C$7,0) -> 1712 | I18: =ROUND(('NEW Reference'!D$6*List!$F18)+'NEW Reference'!D$7,0) -> 2051 | J18: =ROUND(('NEW Reference'!E$6*List!$F18)+'NEW Reference'!E$7,0) -> 2536 | K18: =ROUND(('NEW Reference'!F$6*List!$F18)+'NEW Reference'!F$7,0) -> 2642 | L18: =ROUND(('NEW Reference'!G$6*List!$F18)+'NEW Reference'!G$7,0) -> 2991 | M18: =ROUND(('NEW Reference'!H$6*List!$F18)+'NEW Reference'!H$7,0) -> 3105 | N18: =ROUND(('NEW Reference'!I$6*List!$F18)+'NEW Reference'!I$7,0) -> 3227 | ... V18: =ROUND(('NEW Reference'!Q$6*List!$F18)+'NEW Reference'!Q$7,0) -> 525 | X18: =CONCATENATE(Y18, Z18, AA18) -> AUTAUGA, Alabama | Y18: AUTAUGA | Z18: , | AA18: Alabama | AC18: =IFERROR(INDEX($AF:$AF,MATCH($A18,$AD:$AD,0)),"") -> 0.805125 | AD18: 06 | AE18: Colorado | AF18: 1.0501
A19: 19300 | B19: Daphne-Fairhope-Foley, AL | C19: BALDWIN | D19: Alabama | E19: Urban | F19: =IFERROR(INDEX($AF:$AF,MATCH($A19,$AD:$AD,0)),"") -> 0.8087 | G19: =ROUND(('NEW Reference'!B$6*List!$F19)+'NEW Reference'!B$7,0) -> 1152 | H19: =ROUND(('NEW Reference'!C$6*List!$F19)+'NEW Reference'!C$7,0) -> 1717 | I19: =ROUND(('NEW Reference'!D$6*List!$F19)+'NEW Reference'!D$7,0) -> 2058 | J19: =ROUND(('NEW Reference'!E$6*List!$F19)+'NEW Reference'!E$7,0) -> 2544 | K19: =ROUND(('NEW Reference'!F$6*List!$F19)+'NEW Reference'!F$7,0) -> 2650 | L19: =ROUND(('NEW Reference'!G$6*List!$F19)+'NEW Reference'!G$7,0) -> 3000 | M19: =ROUND(('NEW Reference'!H$6*List!$F19)+'NEW Reference'!H$7,0) -> 3115 | N19: =ROUND(('NEW Reference'!I$6*List!$F19)+'NEW Reference'!I$7,0) -> 3237 | ... V19: =ROUND(('NEW Reference'!Q$6*List!$F19)+'NEW Reference'!Q$7,0) -> 527 | X19: =CONCATENATE(Y19, Z19, AA19) -> BALDWIN, Alabama | Y19: BALDWIN | Z19: , | AA19: Alabama | AC19: =IFERROR(INDEX($AF:$AF,MATCH($A19,$AD:$AD,0)),"") -> 0.8087 | AD19: 07 | AE19: Connecticut | AF19: 0.9687435
A20: 13820 | B20: Birmingham, AL | C20: BIBB | D20: Alabama | E20: Urban | F20: =IFERROR(INDEX($AF:$AF,MATCH($A20,$AD:$AD,0)),"") -> 0.8596 | G20: =ROUND(('NEW Reference'!B$6*List!$F20)+'NEW Reference'!B$7,0) -> 1203 | H20: =ROUND(('NEW Reference'!C$6*List!$F20)+'NEW Reference'!C$7,0) -> 1794 | I20: =ROUND(('NEW Reference'!D$6*List!$F20)+'NEW Reference'!D$7,0) -> 2149 | J20: =ROUND(('NEW Reference'!E$6*List!$F20)+'NEW Reference'!E$7,0) -> 2657 | K20: =ROUND(('NEW Reference'!F$6*List!$F20)+'NEW Reference'!F$7,0) -> 2768 | L20: =ROUND(('NEW Reference'!G$6*List!$F20)+'NEW Reference'!G$7,0) -> 3134 | M20: =ROUND(('NEW Reference'!H$6*List!$F20)+'NEW Reference'!H$7,0) -> 3253 | N20: =ROUND(('NEW Reference'!I$6*List!$F20)+'NEW Reference'!I$7,0) -> 3381 | ... V20: =ROUND(('NEW Reference'!Q$6*List!$F20)+'NEW Reference'!Q$7,0) -> 550 | X20: =CONCATENATE(Y20, Z20, AA20) -> BIBB, Alabama | Y20: BIBB | Z20: , | AA20: Alabama | AC20: =IFERROR(INDEX($AF:$AF,MATCH($A20,$AD:$AD,0)),"") -> 0.8596 | AD20: 08 | AE20: Delaware | AF20: 1.0095
A21: 13820 | B21: Birmingham, AL | C21: BLOUNT | D21: Alabama | E21: Urban | F21: =IFERROR(INDEX($AF:$AF,MATCH($A21,$AD:$AD,0)),"") -> 0.8596 | G21: =ROUND(('NEW Reference'!B$6*List!$F21)+'NEW Reference'!B$7,0) -> 1203 | H21: =ROUND(('NEW Reference'!C$6*List!$F21)+'NEW Reference'!C$7,0) -> 1794 | I21: =ROUND(('NEW Reference'!D$6*List!$F21)+'NEW Reference'!D$7,0) -> 2149 | J21: =ROUND(('NEW Reference'!E$6*List!$F21)+'NEW Reference'!E$7,0) -> 2657 | K21: =ROUND(('NEW Reference'!F$6*List!$F21)+'NEW Reference'!F$7,0) -> 2768 | L21: =ROUND(('NEW Reference'!G$6*List!$F21)+'NEW Reference'!G$7,0) -> 3134 | M21: =ROUND(('NEW Reference'!H$6*List!$F21)+'NEW Reference'!H$7,0) -> 3253 | N21: =ROUND(('NEW Reference'!I$6*List!$F21)+'NEW Reference'!I$7,0) -> 3381 | ... V21: =ROUND(('NEW Reference'!Q$6*List!$F21)+'NEW Reference'!Q$7,0) -> 550 | X21: =CONCATENATE(Y21, Z21, AA21) -> BLOUNT, Alabama | Y21: BLOUNT | Z21: , | AA21: Alabama | AC21: =IFERROR(INDEX($AF:$AF,MATCH($A21,$AD:$AD,0)),"") -> 0.8596 | AD21: 10 | AE21: Florida | AF21: 0.8363
A22: 11500 | B22: Anniston-Oxford, AL | C22: CALHOUN | D22: Alabama | E22: Urban | F22: =IFERROR(INDEX($AF:$AF,MATCH($A22,$AD:$AD,0)),"") -> 0.6958 | G22: =ROUND(('NEW Reference'!B$6*List!$F22)+'NEW Reference'!B$7,0) -> 1038 | H22: =ROUND(('NEW Reference'!C$6*List!$F22)+'NEW Reference'!C$7,0) -> 1548 | I22: =ROUND(('NEW Reference'!D$6*List!$F22)+'NEW Reference'!D$7,0) -> 1855 | J22: =ROUND(('NEW Reference'!E$6*List!$F22)+'NEW Reference'!E$7,0) -> 2293 | K22: =ROUND(('NEW Reference'!F$6*List!$F22)+'NEW Reference'!F$7,0) -> 2389 | L22: =ROUND(('NEW Reference'!G$6*List!$F22)+'NEW Reference'!G$7,0) -> 2704 | M22: =ROUND(('NEW Reference'!H$6*List!$F22)+'NEW Reference'!H$7,0) -> 2807 | N22: =ROUND(('NEW Reference'!I$6*List!$F22)+'NEW Reference'!I$7,0) -> 2918 | ... V22: =ROUND(('NEW Reference'!Q$6*List!$F22)+'NEW Reference'!Q$7,0) -> 475 | X22: =CONCATENATE(Y22, Z22, AA22) -> CALHOUN, Alabama | Y22: CALHOUN | Z22: , | AA22: Alabama | AC22: =IFERROR(INDEX($AF:$AF,MATCH($A22,$AD:$AD,0)),"") -> 0.6958 | AD22: 11 | AE22: Georgia | AF22: 0.7364
A23: 13820 | B23: Birmingham, AL | C23: CHILTON | D23: Alabama | E23: Urban | F23: =IFERROR(INDEX($AF:$AF,MATCH($A23,$AD:$AD,0)),"") -> 0.8596 | G23: =ROUND(('NEW Reference'!B$6*List!$F23)+'NEW Reference'!B$7,0) -> 1203 | H23: =ROUND(('NEW Reference'!C$6*List!$F23)+'NEW Reference'!C$7,0) -> 1794 | I23: =ROUND(('NEW Reference'!D$6*List!$F23)+'NEW Reference'!D$7,0) -> 2149 | J23: =ROUND(('NEW Reference'!E$6*List!$F23)+'NEW Reference'!E$7,0) -> 2657 | K23: =ROUND(('NEW Reference'!F$6*List!$F23)+'NEW Reference'!F$7,0) -> 2768 | L23: =ROUND(('NEW Reference'!G$6*List!$F23)+'NEW Reference'!G$7,0) -> 3134 | M23: =ROUND(('NEW Reference'!H$6*List!$F23)+'NEW Reference'!H$7,0) -> 3253 | N23: =ROUND(('NEW Reference'!I$6*List!$F23)+'NEW Reference'!I$7,0) -> 3381 | ... V23: =ROUND(('NEW Reference'!Q$6*List!$F23)+'NEW Reference'!Q$7,0) -> 550 | X23: =CONCATENATE(Y23, Z23, AA23) -> CHILTON, Alabama | Y23: CHILTON | Z23: , | AA23: Alabama | AC23: =IFERROR(INDEX($AF:$AF,MATCH($A23,$AD:$AD,0)),"") -> 0.8596 | AD23: 65 | AE23: Guam | AF23: 0.9611
A24: 22520 | B24: Florence-Muscle Shoals, AL | C24: COLBERT | D24: Alabama | E24: Urban | F24: =IFERROR(INDEX($AF:$AF,MATCH($A24,$AD:$AD,0)),"") -> 0.6816 | G24: =ROUND(('NEW Reference'!B$6*List!$F24)+'NEW Reference'!B$7,0) -> 1024 | H24: =ROUND(('NEW Reference'!C$6*List!$F24)+'NEW Reference'!C$7,0) -> 1526 | I24: =ROUND(('NEW Reference'!D$6*List!$F24)+'NEW Reference'!D$7,0) -> 1829 | J24: =ROUND(('NEW Reference'!E$6*List!$F24)+'NEW Reference'!E$7,0) -> 2261 | K24: =ROUND(('NEW Reference'!F$6*List!$F24)+'NEW Reference'!F$7,0) -> 2356 | L24: =ROUND(('NEW Reference'!G$6*List!$F24)+'NEW Reference'!G$7,0) -> 2667 | M24: =ROUND(('NEW Reference'!H$6*List!$F24)+'NEW Reference'!H$7,0) -> 2769 | N24: =ROUND(('NEW Reference'!I$6*List!$F24)+'NEW Reference'!I$7,0) -> 2877 | ... V24: =ROUND(('NEW Reference'!Q$6*List!$F24)+'NEW Reference'!Q$7,0) -> 468 | X24: =CONCATENATE(Y24, Z24, AA24) -> COLBERT, Alabama | Y24: COLBERT | Z24: , | AA24: Alabama | AC24: =IFERROR(INDEX($AF:$AF,MATCH($A24,$AD:$AD,0)),"") -> 0.6816 | AD24: 12 | AE24: Hawaii | AF24: 1.1821
A25: 33860 | B25: Montgomery, AL | C25: ELMORE | D25: Alabama | E25: Urban | F25: =IFERROR(INDEX($AF:$AF,MATCH($A25,$AD:$AD,0)),"") -> 0.805125 | G25: =ROUND(('NEW Reference'!B$6*List!$F25)+'NEW Reference'!B$7,0) -> 1148 | H25: =ROUND(('NEW Reference'!C$6*List!$F25)+'NEW Reference'!C$7,0) -> 1712 | I25: =ROUND(('NEW Reference'!D$6*List!$F25)+'NEW Reference'!D$7,0) -> 2051 | J25: =ROUND(('NEW Reference'!E$6*List!$F25)+'NEW Reference'!E$7,0) -> 2536 | K25: =ROUND(('NEW Reference'!F$6*List!$F25)+'NEW Reference'!F$7,0) -> 2642 | L25: =ROUND(('NEW Reference'!G$6*List!$F25)+'NEW Reference'!G$7,0) -> 2991 | M25: =ROUND(('NEW Reference'!H$6*List!$F25)+'NEW Reference'!H$7,0) -> 3105 | N25: =ROUND(('NEW Reference'!I$6*List!$F25)+'NEW Reference'!I$7,0) -> 3227 | ... V25: =ROUND(('NEW Reference'!Q$6*List!$F25)+'NEW Reference'!Q$7,0) -> 525 | X25: =CONCATENATE(Y25, Z25, AA25) -> ELMORE, Alabama | Y25: ELMORE | Z25: , | AA25: Alabama | AC25: =IFERROR(INDEX($AF:$AF,MATCH($A25,$AD:$AD,0)),"") -> 0.805125 | AD25: 16 | AE25: Iowa | AF25: 0.7814
A26: 23460 | B26: Gadsden, AL | C26: ETOWAH | D26: Alabama | E26: Urban | F26: =IFERROR(INDEX($AF:$AF,MATCH($A26,$AD:$AD,0)),"") -> 0.7243 | G26: =ROUND(('NEW Reference'!B$6*List!$F26)+'NEW Reference'!B$7,0) -> 1067 | H26: =ROUND(('NEW Reference'!C$6*List!$F26)+'NEW Reference'!C$7,0) -> 1591 | I26: =ROUND(('NEW Reference'!D$6*List!$F26)+'NEW Reference'!D$7,0) -> 1906 | J26: =ROUND(('NEW Reference'!E$6*List!$F26)+'NEW Reference'!E$7,0) -> 2356 | K26: =ROUND(('NEW Reference'!F$6*List!$F26)+'NEW Reference'!F$7,0) -> 2455 | L26: =ROUND(('NEW Reference'!G$6*List!$F26)+'NEW Reference'!G$7,0) -> 2779 | M26: =ROUND(('NEW Reference'!H$6*List!$F26)+'NEW Reference'!H$7,0) -> 2885 | N26: =ROUND(('NEW Reference'!I$6*List!$F26)+'NEW Reference'!I$7,0) -> 2998 | ... V26: =ROUND(('NEW Reference'!Q$6*List!$F26)+'NEW Reference'!Q$7,0) -> 488 | X26: =CONCATENATE(Y26, Z26, AA26) -> ETOWAH, Alabama | Y26: ETOWAH | Z26: , | AA26: Alabama | AC26: =IFERROR(INDEX($AF:$AF,MATCH($A26,$AD:$AD,0)),"") -> 0.7243 | AD26: 13 | AE26: Idaho | AF26: 0.68580975
A27: 20020 | B27: Dothan, AL | C27: GENEVA | D27: Alabama | E27: Urban | F27: =IFERROR(INDEX($AF:$AF,MATCH($A27,$AD:$AD,0)),"") -> 0.7099 | G27: =ROUND(('NEW Reference'!B$6*List!$F27)+'NEW Reference'!B$7,0) -> 1052 | H27: =ROUND(('NEW Reference'!C$6*List!$F27)+'NEW Reference'!C$7,0) -> 1569 | I27: =ROUND(('NEW Reference'!D$6*List!$F27)+'NEW Reference'!D$7,0) -> 1880 | J27: =ROUND(('NEW Reference'!E$6*List!$F27)+'NEW Reference'!E$7,0) -> 2324 | K27: =ROUND(('NEW Reference'!F$6*List!$F27)+'NEW Reference'!F$7,0) -> 2421 | L27: =ROUND(('NEW Reference'!G$6*List!$F27)+'NEW Reference'!G$7,0) -> 2741 | M27: =ROUND(('NEW Reference'!H$6*List!$F27)+'NEW Reference'!H$7,0) -> 2846 | N27: =ROUND(('NEW Reference'!I$6*List!$F27)+'NEW Reference'!I$7,0) -> 2957 | ... V27: =ROUND(('NEW Reference'!Q$6*List!$F27)+'NEW Reference'!Q$7,0) -> 481 | X27: =CONCATENATE(Y27, Z27, AA27) -> GENEVA, Alabama | Y27: GENEVA | Z27: , | AA27: Alabama | AC27: =IFERROR(INDEX($AF:$AF,MATCH($A27,$AD:$AD,0)),"") -> 0.7099 | AD27: 14 | AE27: Illinois | AF27: 0.8743
A28: 46220 | B28: Tuscaloosa, AL | C28: GREENE | D28: Alabama | E28: Urban | F28: =IFERROR(INDEX($AF:$AF,MATCH($A28,$AD:$AD,0)),"") -> 0.91618 | G28: =ROUND(('NEW Reference'!B$6*List!$F28)+'NEW Reference'!B$7,0) -> 1260 | H28: =ROUND(('NEW Reference'!C$6*List!$F28)+'NEW Reference'!C$7,0) -> 1879 | I28: =ROUND(('NEW Reference'!D$6*List!$F28)+'NEW Reference'!D$7,0) -> 2251 | J28: =ROUND(('NEW Reference'!E$6*List!$F28)+'NEW Reference'!E$7,0) -> 2783 | K28: =ROUND(('NEW Reference'!F$6*List!$F28)+'NEW Reference'!F$7,0) -> 2899 | L28: =ROUND(('NEW Reference'!G$6*List!$F28)+'NEW Reference'!G$7,0) -> 3282 | M28: =ROUND(('NEW Reference'!H$6*List!$F28)+'NEW Reference'!H$7,0) -> 3407 | N28: =ROUND(('NEW Reference'!I$6*List!$F28)+'NEW Reference'!I$7,0) -> 3541 | ... V28: =ROUND(('NEW Reference'!Q$6*List!$F28)+'NEW Reference'!Q$7,0) -> 576 | X28: =CONCATENATE(Y28, Z28, AA28) -> GREENE, Alabama | Y28: GREENE | Z28: , | AA28: Alabama | AC28: =IFERROR(INDEX($AF:$AF,MATCH($A28,$AD:$AD,0)),"") -> 0.91618 | AD28: 15 | AE28: Indiana | AF28: 0.8565
A29: 46220 | B29: Tuscaloosa, AL | C29: HALE | D29: Alabama | E29: Urban | F29: =IFERROR(INDEX($AF:$AF,MATCH($A29,$AD:$AD,0)),"") -> 0.91618 | G29: =ROUND(('NEW Reference'!B$6*List!$F29)+'NEW Reference'!B$7,0) -> 1260 | H29: =ROUND(('NEW Reference'!C$6*List!$F29)+'NEW Reference'!C$7,0) -> 1879 | I29: =ROUND(('NEW Reference'!D$6*List!$F29)+'NEW Reference'!D$7,0) -> 2251 | J29: =ROUND(('NEW Reference'!E$6*List!$F29)+'NEW Reference'!E$7,0) -> 2783 | K29: =ROUND(('NEW Reference'!F$6*List!$F29)+'NEW Reference'!F$7,0) -> 2899 | L29: =ROUND(('NEW Reference'!G$6*List!$F29)+'NEW Reference'!G$7,0) -> 3282 | M29: =ROUND(('NEW Reference'!H$6*List!$F29)+'NEW Reference'!H$7,0) -> 3407 | N29: =ROUND(('NEW Reference'!I$6*List!$F29)+'NEW Reference'!I$7,0) -> 3541 | ... V29: =ROUND(('NEW Reference'!Q$6*List!$F29)+'NEW Reference'!Q$7,0) -> 576 | X29: =CONCATENATE(Y29, Z29, AA29) -> HALE, Alabama | Y29: HALE | Z29: , | AA29: Alabama | AC29: =IFERROR(INDEX($AF:$AF,MATCH($A29,$AD:$AD,0)),"") -> 0.91618 | AD29: 17 | AE29: Kansas | AF29: 0.8135
A30: 20020 | B30: Dothan, AL | C30: HENRY | D30: Alabama | E30: Urban | F30: =IFERROR(INDEX($AF:$AF,MATCH($A30,$AD:$AD,0)),"") -> 0.7099 | G30: =ROUND(('NEW Reference'!B$6*List!$F30)+'NEW Reference'!B$7,0) -> 1052 | H30: =ROUND(('NEW Reference'!C$6*List!$F30)+'NEW Reference'!C$7,0) -> 1569 | I30: =ROUND(('NEW Reference'!D$6*List!$F30)+'NEW Reference'!D$7,0) -> 1880 | J30: =ROUND(('NEW Reference'!E$6*List!$F30)+'NEW Reference'!E$7,0) -> 2324 | K30: =ROUND(('NEW Reference'!F$6*List!$F30)+'NEW Reference'!F$7,0) -> 2421 | L30: =ROUND(('NEW Reference'!G$6*List!$F30)+'NEW Reference'!G$7,0) -> 2741 | M30: =ROUND(('NEW Reference'!H$6*List!$F30)+'NEW Reference'!H$7,0) -> 2846 | N30: =ROUND(('NEW Reference'!I$6*List!$F30)+'NEW Reference'!I$7,0) -> 2957 | ... V30: =ROUND(('NEW Reference'!Q$6*List!$F30)+'NEW Reference'!Q$7,0) -> 481 | X30: =CONCATENATE(Y30, Z30, AA30) -> HENRY, Alabama | Y30: HENRY | Z30: , | AA30: Alabama | AC30: =IFERROR(INDEX($AF:$AF,MATCH($A30,$AD:$AD,0)),"") -> 0.7099 | AD30: 18 | AE30: Kentucky | AF30: 0.8165
A31: 20020 | B31: Dothan, AL | C31: HOUSTON | D31: Alabama | E31: Urban | F31: =IFERROR(INDEX($AF:$AF,MATCH($A31,$AD:$AD,0)),"") -> 0.7099 | G31: =ROUND(('NEW Reference'!B$6*List!$F31)+'NEW Reference'!B$7,0) -> 1052 | H31: =ROUND(('NEW Reference'!C$6*List!$F31)+'NEW Reference'!C$7,0) -> 1569 | I31: =ROUND(('NEW Reference'!D$6*List!$F31)+'NEW Reference'!D$7,0) -> 1880 | J31: =ROUND(('NEW Reference'!E$6*List!$F31)+'NEW Reference'!E$7,0) -> 2324 | K31: =ROUND(('NEW Reference'!F$6*List!$F31)+'NEW Reference'!F$7,0) -> 2421 | L31: =ROUND(('NEW Reference'!G$6*List!$F31)+'NEW Reference'!G$7,0) -> 2741 | M31: =ROUND(('NEW Reference'!H$6*List!$F31)+'NEW Reference'!H$7,0) -> 2846 | N31: =ROUND(('NEW Reference'!I$6*List!$F31)+'NEW Reference'!I$7,0) -> 2957 | ... V31: =ROUND(('NEW Reference'!Q$6*List!$F31)+'NEW Reference'!Q$7,0) -> 481 | X31: =CONCATENATE(Y31, Z31, AA31) -> HOUSTON, Alabama | Y31: HOUSTON | Z31: , | AA31: Alabama | AC31: =IFERROR(INDEX($AF:$AF,MATCH($A31,$AD:$AD,0)),"") -> 0.7099 | AD31: 19 | AE31: Louisiana | AF31: 0.6946
A32: 13820 | B32: Birmingham, AL | C32: JEFFERSON | D32: Alabama | E32: Urban | F32: =IFERROR(INDEX($AF:$AF,MATCH($A32,$AD:$AD,0)),"") -> 0.8596 | G32: =ROUND(('NEW Reference'!B$6*List!$F32)+'NEW Reference'!B$7,0) -> 1203 | H32: =ROUND(('NEW Reference'!C$6*List!$F32)+'NEW Reference'!C$7,0) -> 1794 | I32: =ROUND(('NEW Reference'!D$6*List!$F32)+'NEW Reference'!D$7,0) -> 2149 | J32: =ROUND(('NEW Reference'!E$6*List!$F32)+'NEW Reference'!E$7,0) -> 2657 | K32: =ROUND(('NEW Reference'!F$6*List!$F32)+'NEW Reference'!F$7,0) -> 2768 | L32: =ROUND(('NEW Reference'!G$6*List!$F32)+'NEW Reference'!G$7,0) -> 3134 | M32: =ROUND(('NEW Reference'!H$6*List!$F32)+'NEW Reference'!H$7,0) -> 3253 | N32: =ROUND(('NEW Reference'!I$6*List!$F32)+'NEW Reference'!I$7,0) -> 3381 | ... V32: =ROUND(('NEW Reference'!Q$6*List!$F32)+'NEW Reference'!Q$7,0) -> 550 | X32: =CONCATENATE(Y32, Z32, AA32) -> JEFFERSON, Alabama | Y32: JEFFERSON | Z32: , | AA32: Alabama | AC32: =IFERROR(INDEX($AF:$AF,MATCH($A32,$AD:$AD,0)),"") -> 0.8596 | AD32: 22 | AE32: Massachusetts | AF32: 1.1102
... A43: 46220 | B43: Tuscaloosa, AL | C43: PICKENS | D43: Alabama | E43: Urban | F43: =IFERROR(INDEX($AF:$AF,MATCH($A43,$AD:$AD,0)),"") -> 0.91618 | G43: =ROUND(('NEW Reference'!B$6*List!$F43)+'NEW Reference'!B$7,0) -> 1260 | H43: =ROUND(('NEW Reference'!C$6*List!$F43)+'NEW Reference'!C$7,0) -> 1879 | I43: =ROUND(('NEW Reference'!D$6*List!$F43)+'NEW Reference'!D$7,0) -> 2251 | J43: =ROUND(('NEW Reference'!E$6*List!$F43)+'NEW Reference'!E$7,0) -> 2783 | K43: =ROUND(('NEW Reference'!F$6*List!$F43)+'NEW Reference'!F$7,0) -> 2899 | L43: =ROUND(('NEW Reference'!G$6*List!$F43)+'NEW Reference'!G$7,0) -> 3282 | M43: =ROUND(('NEW Reference'!H$6*List!$F43)+'NEW Reference'!H$7,0) -> 3407 | N43: =ROUND(('NEW Reference'!I$6*List!$F43)+'NEW Reference'!I$7,0) -> 3541 | ... V43: =ROUND(('NEW Reference'!Q$6*List!$F43)+'NEW Reference'!Q$7,0) -> 576 | X43: =CONCATENATE(Y43, Z43, AA43) -> PICKENS, Alabama | Y43: PICKENS | Z43: , | AA43: Alabama | AC43: =IFERROR(INDEX($AF:$AF,MATCH($A43,$AD:$AD,0)),"") -> 0.91618 | AD43: 30 | AE43: New Hampshire | AF43: 1.0138
A44: 01 | B44: Alabama | C44: Rural (Not listed as urban county) | D44: Alabama | E44: Rural | F44: =IFERROR(INDEX($AF:$AF,MATCH($A44,$AD:$AD,0)),"") -> 0.6367 | G44: =ROUND(('NEW Reference'!B$6*List!$F44)+'NEW Reference'!B$7,0) -> 978 | H44: =ROUND(('NEW Reference'!C$6*List!$F44)+'NEW Reference'!C$7,0) -> 1459 | I44: =ROUND(('NEW Reference'!D$6*List!$F44)+'NEW Reference'!D$7,0) -> 1748 | J44: =ROUND(('NEW Reference'!E$6*List!$F44)+'NEW Reference'!E$7,0) -> 2161 | K44: =ROUND(('NEW Reference'!F$6*List!$F44)+'NEW Reference'!F$7,0) -> 2252 | L44: =ROUND(('NEW Reference'!G$6*List!$F44)+'NEW Reference'!G$7,0) -> 2549 | M44: =ROUND(('NEW Reference'!H$6*List!$F44)+'NEW Reference'!H$7,0) -> 2646 | N44: =ROUND(('NEW Reference'!I$6*List!$F44)+'NEW Reference'!I$7,0) -> 2750 | ... V44: =ROUND(('NEW Reference'!Q$6*List!$F44)+'NEW Reference'!Q$7,0) -> 447 | X44: =CONCATENATE(Y44, Z44, AA44) -> Rural (Not listed as urban county), Alabama | Y44: Rural (Not listed as urban county) | Z44: , | AA44: Alabama | AC44: =IFERROR(INDEX($AF:$AF,MATCH($A44,$AD:$AD,0)),"") -> 0.6367 | AD44: 32 | AE44: New Mexico | AF44: 0.9194
A45: 17980 | B45: Columbus, GA-AL | C45: RUSSELL | D45: Alabama | E45: Urban | F45: =IFERROR(INDEX($AF:$AF,MATCH($A45,$AD:$AD,0)),"") -> 0.77957 | G45: =ROUND(('NEW Reference'!B$6*List!$F45)+'NEW Reference'!B$7,0) -> 1122 | H45: =ROUND(('NEW Reference'!C$6*List!$F45)+'NEW Reference'!C$7,0) -> 1673 | I45: =ROUND(('NEW Reference'!D$6*List!$F45)+'NEW Reference'!D$7,0) -> 2005 | J45: =ROUND(('NEW Reference'!E$6*List!$F45)+'NEW Reference'!E$7,0) -> 2479 | K45: =ROUND(('NEW Reference'!F$6*List!$F45)+'NEW Reference'!F$7,0) -> 2583 | L45: =ROUND(('NEW Reference'!G$6*List!$F45)+'NEW Reference'!G$7,0) -> 2924 | M45: =ROUND(('NEW Reference'!H$6*List!$F45)+'NEW Reference'!H$7,0) -> 3035 | N45: =ROUND(('NEW Reference'!I$6*List!$F45)+'NEW Reference'!I$7,0) -> 3155 | ... V45: =ROUND(('NEW Reference'!Q$6*List!$F45)+'NEW Reference'!Q$7,0) -> 513 | X45: =CONCATENATE(Y45, Z45, AA45) -> RUSSELL, Alabama | Y45: RUSSELL | Z45: , | AA45: Alabama | AC45: =IFERROR(INDEX($AF:$AF,MATCH($A45,$AD:$AD,0)),"") -> 0.77957 | AD45: 29 | AE45: Nevada | AF45: 1.1108
A46: 13820 | B46: Birmingham, AL | C46: SHELBY | D46: Alabama | E46: Urban | F46: =IFERROR(INDEX($AF:$AF,MATCH($A46,$AD:$AD,0)),"") -> 0.8596 | G46: =ROUND(('NEW Reference'!B$6*List!$F46)+'NEW Reference'!B$7,0) -> 1203 | H46: =ROUND(('NEW Reference'!C$6*List!$F46)+'NEW Reference'!C$7,0) -> 1794 | I46: =ROUND(('NEW Reference'!D$6*List!$F46)+'NEW Reference'!D$7,0) -> 2149 | J46: =ROUND(('NEW Reference'!E$6*List!$F46)+'NEW Reference'!E$7,0) -> 2657 | K46: =ROUND(('NEW Reference'!F$6*List!$F46)+'NEW Reference'!F$7,0) -> 2768 | L46: =ROUND(('NEW Reference'!G$6*List!$F46)+'NEW Reference'!G$7,0) -> 3134 | M46: =ROUND(('NEW Reference'!H$6*List!$F46)+'NEW Reference'!H$7,0) -> 3253 | N46: =ROUND(('NEW Reference'!I$6*List!$F46)+'NEW Reference'!I$7,0) -> 3381 | ... V46: =ROUND(('NEW Reference'!Q$6*List!$F46)+'NEW Reference'!Q$7,0) -> 550 | X46: =CONCATENATE(Y46, Z46, AA46) -> SHELBY, Alabama | Y46: SHELBY | Z46: , | AA46: Alabama | AC46: =IFERROR(INDEX($AF:$AF,MATCH($A46,$AD:$AD,0)),"") -> 0.8596 | AD46: 33 | AE46: New York | AF46: 0.8892
A47: 13820 | B47: Birmingham, AL | C47: ST. CLAIR | D47: Alabama | E47: Urban | F47: =IFERROR(INDEX($AF:$AF,MATCH($A47,$AD:$AD,0)),"") -> 0.8596 | G47: =ROUND(('NEW Reference'!B$6*List!$F47)+'NEW Reference'!B$7,0) -> 1203 | H47: =ROUND(('NEW Reference'!C$6*List!$F47)+'NEW Reference'!C$7,0) -> 1794 | I47: =ROUND(('NEW Reference'!D$6*List!$F47)+'NEW Reference'!D$7,0) -> 2149 | J47: =ROUND(('NEW Reference'!E$6*List!$F47)+'NEW Reference'!E$7,0) -> 2657 | K47: =ROUND(('NEW Reference'!F$6*List!$F47)+'NEW Reference'!F$7,0) -> 2768 | L47: =ROUND(('NEW Reference'!G$6*List!$F47)+'NEW Reference'!G$7,0) -> 3134 | M47: =ROUND(('NEW Reference'!H$6*List!$F47)+'NEW Reference'!H$7,0) -> 3253 | N47: =ROUND(('NEW Reference'!I$6*List!$F47)+'NEW Reference'!I$7,0) -> 3381 | ... V47: =ROUND(('NEW Reference'!Q$6*List!$F47)+'NEW Reference'!Q$7,0) -> 550 | X47: =CONCATENATE(Y47, Z47, AA47) -> ST. CLAIR, Alabama | Y47: ST. CLAIR | Z47: , | AA47: Alabama | AC47: =IFERROR(INDEX($AF:$AF,MATCH($A47,$AD:$AD,0)),"") -> 0.8596 | AD47: 36 | AE47: Ohio | AF47: 0.8032
A48: 46220 | B48: Tuscaloosa, AL | C48: TUSCALOOSA | D48: Alabama | E48: Urban | F48: =IFERROR(INDEX($AF:$AF,MATCH($A48,$AD:$AD,0)),"") -> 0.91618 | G48: =ROUND(('NEW Reference'!B$6*List!$F48)+'NEW Reference'!B$7,0) -> 1260 | H48: =ROUND(('NEW Reference'!C$6*List!$F48)+'NEW Reference'!C$7,0) -> 1879 | I48: =ROUND(('NEW Reference'!D$6*List!$F48)+'NEW Reference'!D$7,0) -> 2251 | J48: =ROUND(('NEW Reference'!E$6*List!$F48)+'NEW Reference'!E$7,0) -> 2783 | K48: =ROUND(('NEW Reference'!F$6*List!$F48)+'NEW Reference'!F$7,0) -> 2899 | L48: =ROUND(('NEW Reference'!G$6*List!$F48)+'NEW Reference'!G$7,0) -> 3282 | M48: =ROUND(('NEW Reference'!H$6*List!$F48)+'NEW Reference'!H$7,0) -> 3407 | N48: =ROUND(('NEW Reference'!I$6*List!$F48)+'NEW Reference'!I$7,0) -> 3541 | ... V48: =ROUND(('NEW Reference'!Q$6*List!$F48)+'NEW Reference'!Q$7,0) -> 576 | X48: =CONCATENATE(Y48, Z48, AA48) -> TUSCALOOSA, Alabama | Y48: TUSCALOOSA | Z48: , | AA48: Alabama | AC48: =IFERROR(INDEX($AF:$AF,MATCH($A48,$AD:$AD,0)),"") -> 0.91618 | AD48: 37 | AE48: Oklahoma | AF48: 0.8035
A49: 13820 | B49: Birmingham, AL | C49: WALKER | D49: Alabama | E49: Urban | F49: =IFERROR(INDEX($AF:$AF,MATCH($A49,$AD:$AD,0)),"") -> 0.8596 | G49: =ROUND(('NEW Reference'!B$6*List!$F49)+'NEW Reference'!B$7,0) -> 1203 | H49: =ROUND(('NEW Reference'!C$6*List!$F49)+'NEW Reference'!C$7,0) -> 1794 | I49: =ROUND(('NEW Reference'!D$6*List!$F49)+'NEW Reference'!D$7,0) -> 2149 | J49: =ROUND(('NEW Reference'!E$6*List!$F49)+'NEW Reference'!E$7,0) -> 2657 | K49: =ROUND(('NEW Reference'!F$6*List!$F49)+'NEW Reference'!F$7,0) -> 2768 | L49: =ROUND(('NEW Reference'!G$6*List!$F49)+'NEW Reference'!G$7,0) -> 3134 | M49: =ROUND(('NEW Reference'!H$6*List!$F49)+'NEW Reference'!H$7,0) -> 3253 | N49: =ROUND(('NEW Reference'!I$6*List!$F49)+'NEW Reference'!I$7,0) -> 3381 | ... V49: =ROUND(('NEW Reference'!Q$6*List!$F49)+'NEW Reference'!Q$7,0) -> 550 | X49: =CONCATENATE(Y49, Z49, AA49) -> WALKER, Alabama | Y49: WALKER | Z49: , | AA49: Alabama | AC49: =IFERROR(INDEX($AF:$AF,MATCH($A49,$AD:$AD,0)),"") -> 0.8596 | AD49: 38 | AE49: Oregon | AF49: 1.0209
A50: 22220 | B50: Fayetteville-Springdale-Rogers, AR | C50: BENTON | D50: Arkansas | E50: Urban | F50: =IFERROR(INDEX($AF:$AF,MATCH($A50,$AD:$AD,0)),"") -> 0.8802 | G50: =ROUND(('NEW Reference'!B$6*List!$F50)+'NEW Reference'!B$7,0) -> 1224 | H50: =ROUND(('NEW Reference'!C$6*List!$F50)+'NEW Reference'!C$7,0) -> 1825 | I50: =ROUND(('NEW Reference'!D$6*List!$F50)+'NEW Reference'!D$7,0) -> 2186 | J50: =ROUND(('NEW Reference'!E$6*List!$F50)+'NEW Reference'!E$7,0) -> 2703 | K50: =ROUND(('NEW Reference'!F$6*List!$F50)+'NEW Reference'!F$7,0) -> 2816 | L50: =ROUND(('NEW Reference'!G$6*List!$F50)+'NEW Reference'!G$7,0) -> 3188 | M50: =ROUND(('NEW Reference'!H$6*List!$F50)+'NEW Reference'!H$7,0) -> 3310 | N50: =ROUND(('NEW Reference'!I$6*List!$F50)+'NEW Reference'!I$7,0) -> 3439 | ... V50: =ROUND(('NEW Reference'!Q$6*List!$F50)+'NEW Reference'!Q$7,0) -> 560 | X50: =CONCATENATE(Y50, Z50, AA50) -> BENTON, Arkansas | Y50: BENTON | Z50: , | AA50: Arkansas | AC50: =IFERROR(INDEX($AF:$AF,MATCH($A50,$AD:$AD,0)),"") -> 0.8802 | AD50: 39 | AE50: Pennsylvania | AF50: 0.8507
A51: 27860 | B51: Jonesboro, AR | C51: CRAIGHEAD | D51: Arkansas | E51: Urban | F51: =IFERROR(INDEX($AF:$AF,MATCH($A51,$AD:$AD,0)),"") -> 0.8199 | G51: =ROUND(('NEW Reference'!B$6*List!$F51)+'NEW Reference'!B$7,0) -> 1163 | H51: =ROUND(('NEW Reference'!C$6*List!$F51)+'NEW Reference'!C$7,0) -> 1734 | I51: =ROUND(('NEW Reference'!D$6*List!$F51)+'NEW Reference'!D$7,0) -> 2078 | J51: =ROUND(('NEW Reference'!E$6*List!$F51)+'NEW Reference'!E$7,0) -> 2569 | K51: =ROUND(('NEW Reference'!F$6*List!$F51)+'NEW Reference'!F$7,0) -> 2676 | L51: =ROUND(('NEW Reference'!G$6*List!$F51)+'NEW Reference'!G$7,0) -> 3030 | M51: =ROUND(('NEW Reference'!H$6*List!$F51)+'NEW Reference'!H$7,0) -> 3145 | N51: =ROUND(('NEW Reference'!I$6*List!$F51)+'NEW Reference'!I$7,0) -> 3269 | ... V51: =ROUND(('NEW Reference'!Q$6*List!$F51)+'NEW Reference'!Q$7,0) -> 532 | X51: =CONCATENATE(Y51, Z51, AA51) -> CRAIGHEAD, Arkansas | Y51: CRAIGHEAD | Z51: , | AA51: Arkansas | AC51: =IFERROR(INDEX($AF:$AF,MATCH($A51,$AD:$AD,0)),"") -> 0.8199 | AD51: 40 | AE51: Puerto Rico1 | AF51: 0.8893
A52: 22900 | B52: Fort Smith, AR-OK | C52: CRAWFORD | D52: Arkansas | E52: Urban | F52: =IFERROR(INDEX($AF:$AF,MATCH($A52,$AD:$AD,0)),"") -> 0.9214 | G52: =ROUND(('NEW Reference'!B$6*List!$F52)+'NEW Reference'!B$7,0) -> 1265 | H52: =ROUND(('NEW Reference'!C$6*List!$F52)+'NEW Reference'!C$7,0) -> 1886 | I52: =ROUND(('NEW Reference'!D$6*List!$F52)+'NEW Reference'!D$7,0) -> 2260 | J52: =ROUND(('NEW Reference'!E$6*List!$F52)+'NEW Reference'!E$7,0) -> 2795 | K52: =ROUND(('NEW Reference'!F$6*List!$F52)+'NEW Reference'!F$7,0) -> 2911 | L52: =ROUND(('NEW Reference'!G$6*List!$F52)+'NEW Reference'!G$7,0) -> 3296 | M52: =ROUND(('NEW Reference'!H$6*List!$F52)+'NEW Reference'!H$7,0) -> 3422 | N52: =ROUND(('NEW Reference'!I$6*List!$F52)+'NEW Reference'!I$7,0) -> 3556 | ... V52: =ROUND(('NEW Reference'!Q$6*List!$F52)+'NEW Reference'!Q$7,0) -> 579 | X52: =CONCATENATE(Y52, Z52, AA52) -> CRAWFORD, Arkansas | Y52: CRAWFORD | Z52: , | AA52: Arkansas | AC52: =IFERROR(INDEX($AF:$AF,MATCH($A52,$AD:$AD,0)),"") -> 0.9214 | AD52: 42 | AE52: South Carolina | AF52: 0.8184
A53: 32820 | B53: Memphis, TN-MS-AR | C53: CRITTENDEN | D53: Arkansas | E53: Urban | F53: =IFERROR(INDEX($AF:$AF,MATCH($A53,$AD:$AD,0)),"") -> 0.8676 | G53: =ROUND(('NEW Reference'!B$6*List!$F53)+'NEW Reference'!B$7,0) -> 1211 | H53: =ROUND(('NEW Reference'!C$6*List!$F53)+'NEW Reference'!C$7,0) -> 1806 | I53: =ROUND(('NEW Reference'!D$6*List!$F53)+'NEW Reference'!D$7,0) -> 2164 | J53: =ROUND(('NEW Reference'!E$6*List!$F53)+'NEW Reference'!E$7,0) -> 2675 | K53: =ROUND(('NEW Reference'!F$6*List!$F53)+'NEW Reference'!F$7,0) -> 2787 | L53: =ROUND(('NEW Reference'!G$6*List!$F53)+'NEW Reference'!G$7,0) -> 3155 | M53: =ROUND(('NEW Reference'!H$6*List!$F53)+'NEW Reference'!H$7,0) -> 3275 | N53: =ROUND(('NEW Reference'!I$6*List!$F53)+'NEW Reference'!I$7,0) -> 3404 | ... V53: =ROUND(('NEW Reference'!Q$6*List!$F53)+'NEW Reference'!Q$7,0) -> 554 | X53: =CONCATENATE(Y53, Z53, AA53) -> CRITTENDEN, Arkansas | Y53: CRITTENDEN | Z53: , | AA53: Arkansas | AC53: =IFERROR(INDEX($AF:$AF,MATCH($A53,$AD:$AD,0)),"") -> 0.8676 | AD53: 43 | AE53: South Dakota | AF53: 0.8177
...

Sheet NEW Reference
A1: Veteran Directed Care Case Mix Rate Calculator Reference Sheet FY2027
A2: Table 6. Case Mix Level Reference Sheet | S2: ,
A3: Case Mix Level | B3: L | C3: A | D3: B | E3: C | F3: D | G3: E | H3: F | I3: G | J3: H | K3: I | L3: J | M3: K | N3: V* | O3: Monthly Admin. Fee | P3: Assess-ment Fee | Q3: Partial Assess-ment Fee | S3: County and State Name | T3: Days in Month - Start | U3: Days in Month - End | V3: Months in authorization for Admin Fee
A4: Labor Percentage (CY26) | B4: 0.749 | C4: 0.749 | D4: 0.749 | E4: 0.749 | F4: 0.749 | G4: 0.749 | H4: 0.749 | I4: 0.749 | J4: 0.749 | K4: 0.749 | L4: 0.749 | M4: 0.749 | N4: 0.749 | O4: 0.749 | P4: 0.749 | Q4: 0.749 | S4: =CONCATENATE('NEW Calculator'!B3,'NEW Reference'!S2,'NEW Calculator'!B2) -> AUTAUGA, Alabama | T4: =INDEX('NEW Reference'!G16:G27,MATCH(MONTH('NEW Calculator'!B5),'NEW Reference'!F16:F27,0)) -> 31 | U4: =INDEX('NEW Reference'!G16:G27,MATCH(MONTH('NEW Calculator'!B6),'NEW Reference'!F16:F27,0)) -> 30 | V4: =MIN(12, IF(MOD('NEW Calculator'!B7,1) >= 0.01, ROUNDUP('NEW Calculator'!B7,0), ROUNDDOWN('NEW Calculator'!B7,0))) -> 12
A5: Non-Labor Percentage (CY26) | B5: 0.251 | C5: 0.251 | D5: 0.251 | E5: 0.251 | F5: 0.251 | G5: 0.251 | H5: 0.251 | I5: 0.251 | J5: 0.251 | K5: 0.251 | L5: 0.251 | M5: 0.251 | N5: 0.251 | O5: 0.251 | P5: 0.251 | Q5: 0.251
A6: National Rate - Labor - 60% w/o Admin Fee (FY27) | B6: =B8*B4 -> 1006.8033 | C6: =C8*C4 -> 1501.3069 | D6: =D8*D4 -> 1798.9344 | E6: =E8*E4 -> 2224.043 | F6: =F8*F4 -> 2317.0837 | G6: =G8*G4 -> 2622.9358 | H6: =H8*H4 -> 2723.173 | I6: =I8*I4 -> 2830.0927 | ... Q6: =Q8*Q4 -> 460.44613
A7: National Rate - Non-Labor - 60% w/o Admin Fee (FY27) | B7: =B8*B5 -> 337.39335 | C7: =C8*C5 -> 503.10819 | D7: =D8*D5 -> 602.84717 | E7: =E8*E5 -> 745.30681 | F7: =F8*F5 -> 776.486 | G7: =G8*G5 -> 878.98115 | H7: =H8*H5 -> 912.572 | I7: =I8*I5 -> 948.40223 | ... Q7: =Q8*Q5 -> 154.30171
A8: National Rate - 60% w/o Admin Fee (FY27) | B8: =B9*1.021 -> 1344.1966 | C8: =C9*1.021 -> 2004.4151 | D8: =D9*1.021 -> 2401.7815 | E8: =E9*1.021 -> 2969.3498 | F8: =F9*1.021 -> 3093.5697 | G8: =G9*1.021 -> 3501.9169 | H8: =H9*1.021 -> 3635.745 | I8: =I9*1.021 -> 3778.495 | ... Q8: =Q9*1.021 -> 614.74783
A9: National Rate - 60% w/o Admin Fee (FY26) | B9: 1316.5491 | C9: 1963.1882 | D9: 2352.3815 | E9: 2908.276 | F9: 3029.941 | G9: 3429.8893 | H9: 3560.9647 | I9: 3700.7786 | J9: 4285.5769 | K9: 4420.6855 | L9: 4770.2201 | M9: 5697.1591 | N9: 22987.696 | O9: 854.59874 | P9: 1204.2073 | Q9: 602.10366
A10: National Rate - 60% w/o Admin Fee % Change FY26-FY27 | B10: =B8/B9-1 -> 0.021 | C10: =C8/C9-1 -> 0.021 | D10: =D8/D9-1 -> 0.021 | E10: =E8/E9-1 -> 0.021 | F10: =F8/F9-1 -> 0.021 | G10: =G8/G9-1 -> 0.021 | H10: =H8/H9-1 -> 0.021 | I10: =I8/I9-1 -> 0.021 | ... Q10: =Q8/Q9-1 -> 0.021
A11: National Rate - Labor - 60% w/ Admin Fee (FY27) | B11: =B6+$O6 -> 1660.3397 | C11: =C6+$O6 -> 2154.8434 | D11: =D6+$O6 -> 2452.4708 | E11: =E6+$O6 -> 2877.5795 | F11: =F6+$O6 -> 2970.6202 | G11: =G6+$O6 -> 3276.4722 | H11: =H6+$O6 -> 3376.7094 | I11: =I6+$O6 -> 3483.6292 | ... N11: =N6+$O6 -> 18232.895 | O11: =O6 -> 653.53644 | P11: =P6 -> 920.89225 | Q11: =Q6 -> 460.44613
A12: National Rate - Non-Labor - 60% w/ Admin Fee (FY27) | B12: =B7+$O7 -> 556.40222 | C12: =C7+$O7 -> 722.11707 | D12: =D7+$O7 -> 821.85604 | E12: =E7+$O7 -> 964.31568 | F12: =F7+$O7 -> 995.49488 | G12: =G7+$O7 -> 1097.99 | H12: =H7+$O7 -> 1131.5809 | I12: =I7+$O7 -> 1167.4111 | ... N12: =N7+$O7 -> 6110.0888 | O12: =O7 -> 219.00887 | P12: =P7 -> 308.60341 | Q12: =Q7 -> 154.30171
A13: National Rate - 60% w/ Admin Fee (FY27) | B13: =B8+$O8 -> 2216.7419 | C13: =C8+$O8 -> 2876.9604 | D13: =D8+$O8 -> 3274.3269 | E13: =E8+$O8 -> 3841.8951 | F13: =F8+$O8 -> 3966.115 | G13: =G8+$O8 -> 4374.4622 | H13: =H8+$O8 -> 4508.2903 | I13: =I8+$O8 -> 4651.0403 | ... N13: =N8+$O8 -> 24342.983 | O13: =O8 -> 872.54531 | P13: =P8 -> 1229.4957 | Q13: =Q8 -> 614.74783
A14: Table 7. VAMCs, States, Counties, Case Mix Levels, Months, County Wage Indices
A15: VAMCs | B15: States - Short | C15: States - Long | D15: Counties | E15: Case Mix Level | F15: Months | G15: Days in Month | H15: Florida County CY 2026 HH PPS Wage Index with 5% Cap | I15: Median Florida County CY 2026 HH PPS Wage Index with 5% Cap
A16: (1V01) (402) Togus, ME HCS | B16: AL | C16: Alabama | D16: ABBEVILLE | E16: L | F16: 1 | G16: 31 | H16: 0.89908 | I16: =MEDIAN(H16:H61) -> 0.8893
A17: (1V01) (405) White River Junction, VT HCS | B17: AK | C17: Alaska | D17: ACADIA | E17: A | F17: 2 | G17: 28 | H17: 0.8753
A18: (1V01) (518) Bedford, MA HCS | B18: AZ | C18: Arizona | D18: ACCOMACK | E18: B | F18: 3 | G18: 31 | H18: 0.856805
A19: (1V01) (523) Boston, MA HCS | B19: AR | C19: Arkansas | D19: ADA | E19: C | F19: 4 | G19: 30 | H19: 0.9484
A20: (1V01) (608) Manchester, NH HCS | B20: CA | C20: California | D20: ADAIR | E20: D | F20: 5 | G20: 31 | H20: 0.9693
A21: (1V01) (631) Central Western Massachusetts HCS | B21: CO | C21: Colorado | D21: ADAMS | E21: E | F21: 6 | G21: 30 | H21: 0.8793
A22: (1V01) (650) Providence, RI HCS | B22: CT | C22: Connecticut | D22: ADDISON | E22: F | F22: 7 | G22: 31 | H22: 0.8569
A23: (1V01) (689) Connecticut HCS | B23: DC | C23: District of Columbia | D23: ADJUNTAS | E23: G | F23: 8 | G23: 31 | H23: 0.8753
A24: (1V02) (526) Bronx, NY HCS | B24: DE | C24: Delaware | D24: AGUADA | E24: H | F24: 9 | G24: 30 | H24: 0.9223
A25: (1V02) (528) Western New York HCS | B25: FL | C25: Florida | D25: AGUADILLA | E25: I | F25: 10 | G25: 31 | H25: 0.8753
A26: (1V02) (528A6) Bath, NY HCS | B26: GA | C26: Georgia | D26: AGUAS BUENAS | E26: J | F26: 11 | G26: 30 | H26: 0.8065
A27: (1V02) (528A7) Syracuse, NY HCS | B27: GM | C27: Guam | D27: AIBONITO | E27: K | F27: 12 | G27: 31 | H27: 0.8772
A28: (1V02) (528A8) Albany, NY HCS | B28: HI | C28: Hawaii | D28: AIKEN | E28: V* | H28: 0.7398
A29: (1V02) (561) New Jersey HCS | B29: ID | C29: Idaho | D29: AITKIN | H29: 0.89908
A30: (1V02) (620) Hudson Valley, NY HCS | B30: IL | C30: Illinois | D30: ALACHUA | H30: 0.8981
A31: (1V02) (630) New York Harbor HCS | B31: IN | C31: Indiana | D31: ALAMANCE | H31: 0.9382
A32: (1V02) (632) Northport, NY HCS | B32: IA | C32: Iowa | D32: ALAMEDA | H32: 0.8981
A33: (1V04) (460) Wilmington, DE HCS | B33: KS | C33: Kansas | D33: ALAMOSA | H33: 1.0152
A34: (1V04) (503) Altoona, PA HCS | B34: KY | C34: Kentucky | D34: ALBANY | H34: 0.7398
A35: (1V04) (529) Butler, PA HCS | B35: LA | C35: Louisiana | D35: ALBEMARLE | H35: 0.9674
A36: (1V04) (542) Coatesville, PA HCS | B36: ME | C36: Maine | D36: ALCONA | H36: 0.9189
A37: (1V04) (562) Erie, PA HCS | B37: MD | C37: Maryland | D37: ALCORN | H37: 0.7398
A38: (1V04) (595) Lebanon, PA HCS | B38: MA | C38: Massachusetts | D38: ALEUTIANS EAST | H38: 0.89908
A39: (1V04) (642) Philadelphia, PA HCS | B39: MI | C39: Michigan | D39: ALEUTIANS WEST | H39: 0.9439
A40: (1V04) (646) Pittsburgh, PA HCS | B40: MN | C40: Minnesota | D40: ALEXANDER | H40: 0.8715
...

Sheet __dep_lists__
A1: Alabama | B1: Alaska | C1: Arizona | D1: Arkansas | E1: California | F1: Colorado | G1: Connecticut | H1: Delaware | I1: District of Columbia | J1: Florida | K1: Georgia | L1: Guam | M1: Hawaii | N1: Idaho | O1: Illinois | P1: Indiana | Q1: Iowa | R1: Kansas | S1: Kentucky | T1: Louisiana | U1: Maine | V1: Maryland | W1: Massachusetts | X1: Michigan | Y1: Minnesota | Z1: Mississippi | AA1: Missouri | AB1: Montana | AC1: Nebraska | AD1: Nevada | AE1: New Hampshire | AF1: New Jersey | AG1: New Mexico | AH1: New York | AI1: North Carolina | AJ1: North Dakota | AK1: Ohio | AL1: Oklahoma | AM1: Oregon | AN1: Pennsylvania | AO1: Puerto Rico | AP1: Rhode Island | AQ1: South Carolina | AR1: South Dakota | AS1: Tennessee | AT1: Texas | AU1: U.S. Virgin Islands | AV1: Utah | AW1: Vermont | AX1: Virginia | AY1: Washington | AZ1: West Virginia | BA1: Wisconsin | BB1: Wyoming
A2: AUTAUGA | B2: ANCHORAGE | C2: COCHISE | D2: BENTON | E2: ALAMEDA | F2: ADAMS | G2: FAIRFIELD | H2: KENT | I2: THE DISTRICT | J2: ALACHUA | K2: BARROW | L2: Rural (Not listed as urban county) | M2: HONOLULU | N2: ADA | O2: ALEXANDER | P2: ALLEN | Q2: BENTON | R2: BUTLER | S2: ALLEN | T2: ACADIA | U2: ANDROSCOGGIN | V2: ANNE ARUNDEL | W2: BARNSTABLE | X2: BARRY | Y2: ANOKA | Z2: BENTON | AA2: ANDREW | AB2: BROADWATER | AC2: CASS | AD2: CARSON CITY | AE2: HILLSBOROUGH | AF2: ATLANTIC | AG2: BERNALILLO | AH2: ALBANY | AI2: ALAMANCE | AJ2: BURLEIGH | AK2: ALLEN | AL2: CANADIAN | AM2: BENTON | AN2: ADAMS | AO2: AGUADA | AP2: BRISTOL | AQ2: AIKEN | AR2: CUSTER | AS2: ANDERSON | AT2: ARANSAS | AU2: Rural (Not listed as urban county) | AV2: CACHE | AW2: CHITTENDEN | AX2: ALBEMARLE | AY2: ASOTIN | AZ2: BERKELEY | BA2: BROWN | BB2: LARAMIE
A3: BALDWIN | B3: FAIRBANKS NORTH STAR | C3: COCONINO | D3: CRAIGHEAD | E3: BUTTE | F3: ARAPAHOE | G3: HARTFORD-TOLLAND-MIDDLESEX | H3: NEW CASTLE | J3: BAKER | K3: BARTOW | M3: KALAWAO | N3: BANNOCK | O3: BOND | P3: BARTHOLOMEW | Q3: BLACK HAWK | R3: CHEROKEE | S3: BALLARD | T3: ASCENSION | U3: CUMBERLAND | V3: BALTIMORE | W3: BERKSHIRE | X3: BAY | Y3: BENTON | Z3: COPIAH | AA3: BATES | AB3: CARBON | AC3: DAKOTA | AD3: CLARK | AE3: ROCKINGHAM | AF3: BERGEN | AG3: DONA ANA | AH3: BRONX | AI3: ALEXANDER | AJ3: CASS | AK3: ASHTABULA | AL3: CLEVELAND | AM3: CLACKAMAS | AN3: ALLEGHENY | AO3: AGUADILLA | AP3: KENT | AQ3: ANDERSON | AR3: LINCOLN | AS3: BLOUNT | AT3: ARCHER | AV3: DAVIS | AW3: FRANKLIN | AX3: ALEXANDRIA CITY | AY3: BENTON | AZ3: BOONE | BA3: CALUMET | BB3: NATRONA
A4: BIBB | B4: MATANUSKA-SUSITNA | C4: MARICOPA | D4: CRAWFORD | E4: CONTRA COSTA | F4: BOULDER | G4: LITCHFIELD | H4: Rural (Not listed as urban county) | J4: BAY | K4: BIBB | M4: MAUI | N4: BOISE | O4: BOONE | P4: BENTON | Q4: BOONE | R4: DONIPHAN | S4: BOONE | T4: ASSUMPTION | U4: PENOBSCOT | V4: BALTIMORE CITY | W4: BRISTOL | X4: BENZIE | Y4: BLUE EARTH | Z4: DE SOTO | AA4: BOLLINGER | AB4: CASCADE | AC4: DOUGLAS | AD4: LYON | AE4: STRAFFORD | AF4: BURLINGTON | AG4: SAN JUAN | AH4: BROOME | AI4: ANSON | AJ4: GRAND FORKS | AK4: BELMONT | AL4: COMANCHE | AM4: COLUMBIA | AN4: ARMSTRONG | AO4: AGUAS BUENAS | AP4: NEWPORT | AQ4: BEAUFORT | AR4: MC COOK | AS4: BRADLEY | AT4: ARMSTRONG | AV4: JUAB | AW4: GRAND ISLE | AX4: AMELIA | AY4: CHELAN | AZ4: BROOKE | BA4: CHIPPEWA | BB4: Rural (Not listed as urban county)
A5: BLOUNT | B5: Rural (Not listed as urban county) | C5: MOHAVE | D5: CRITTENDEN | E5: EL DORADO | F5: BROOMFIELD | G5: NEW HAVEN | J5: BREVARD | K5: BRANTLEY | M5: Rural (Not listed as urban county) | N5: BONNEVILLE | O5: CALHOUN | P5: BOONE | Q5: BREMER | R5: DOUGLAS | S5: BOURBON | T5: BOSSIER | U5: SAGADAHOC | V5: CALVERT | W5: ESSEX | X5: BERRIEN | Y5: CARLTON | Z5: FORREST | AA5: BOONE | AB5: GALLATIN | AC5: HALL | AD5: STOREY | AE5: Rural (Not listed as urban county) | AF5: CAMDEN | AG5: SANDOVAL | AH5: CHEMUNG | AI5: BRUNSWICK | AJ5: MCHENRY | AK5: BROWN | AL5: COTTON | AM5: CROOK | AN5: BEAVER | AO5: AIBONITO | AP5: PROVIDENCE | AQ5: BERKELEY | AR5: MEADE | AS5: CAMPBELL | AT5: ATASCOSA | AV5: MORGAN | AW5: Rural (Not listed as urban county) | AX5: AMHERST | AY5: CLARK | AZ5: CABELL | BA5: COLUMBIA
A6: CALHOUN | C6: PIMA | D6: FAULKNER | E6: FRESNO | F6: CLEAR CREEK | G6: NEW LONDON | J6: BROWARD | K6: BROOKS | N6: BUTTE | O6: CHAMPAIGN | P6: BROWN | Q6: DALLAS | R6: GEARY | S6: BOYD | T6: CADDO | U6: YORK | V6: CARROLL | W6: HAMPDEN | X6: CALHOUN | Y6: CARVER | Z6: HANCOCK | AA6: BUCHANAN | AB6: JEFFERSON | AC6: HOWARD | AD6: WASHOE | AF6: CAPE MAY | AG6: SANTA FE | AH6: DUTCHESS | AI6: BUNCOMBE | AJ6: MORTON | AK6: BUTLER | AL6: CREEK | AM6: DESCHUTES | AN6: BERKS | AO6: ANASCO | AP6: WASHINGTON | AQ6: CALHOUN | AR6: MINNEHAHA | AS6: CANNON | AT6: AUSTIN | AV6: SALT LAKE | AX6: APPOMATTOX | AY6: COWLITZ | AZ6: CLAY | BA6: DANE
A7: CHILTON | C7: PINAL | D7: GARLAND | E7: IMPERIAL | F7: DENVER | G7: WINDHAM | J7: CHARLOTTE | K7: BRYAN | N7: CANYON | O7: CLINTON | P7: CARROLL | Q7: DUBUQUE | R7: HARVEY | S7: BRACKEN | T7: CALCASIEU | U7: Rural (Not listed as urban county) | V7: CECIL | W7: HAMPSHIRE | X7: CASS | Y7: CHISAGO | Z7: HARRISON | AA7: CALDWELL | AB7: LEWIS AND CLARK | AC7: LANCASTER | AD7: Rural (Not listed as urban county) | AF7: CUMBERLAND | AG7: TORRANCE | AH7: ERIE | AI7: BURKE | AJ7: OLIVER | AK7: CARROLL | AL7: GARFIELD | AM7: JACKSON | AN7: BLAIR | AO7: ARECIBO | AQ7: CHARLESTON | AR7: PENNINGTON | AS7: CARTER | AT7: BANDERA | AV7: TOOELE | AX7: ARLINGTON | AY7: DOUGLAS | AZ7: FAYETTE | BA7: DOUGLAS
A8: COLBERT | C8: YAVAPAI | D8: GRANT | E8: KERN | F8: DOUGLAS | G8: Rural (Not listed as urban county) | J8: CITRUS | K8: BURKE | N8: FRANKLIN | O8: COOK | P8: CLARK | Q8: GRUNDY | R8: JACKSON | S8: BULLITT | T8: CAMERON | V8: CHARLES | W8: MIDDLESEX | X8: CLINTON | Y8: CLAY | Z8: HINDS | AA8: CALLAWAY | AB8: MINERAL | AC8: MERRICK | AF8: ESSEX | AG8: VALENCIA | AH8: HERKIMER | AI8: CABARRUS | AJ8: RENVILLE | AK8: CLARK | AL8: GRADY | AM8: JEFFERSON | AN8: BUCKS | AO8: ARROYO | AQ8: CHESTER | AR8: TURNER | AS8: CHEATHAM | AT8: BASTROP | AV8: UTAH | AX8: AUGUSTA | AY8: FRANKLIN | AZ8: HAMPSHIRE | BA8: EAU CLAIRE
A9: ELMORE | C9: YUMA | D9: LITTLE RIVER | E9: KINGS | F9: EL PASO | J9: CLAY | K9: BUTTS | N9: GEM | O9: DE KALB | P9: CLAY | Q9: GUTHRIE | R9: JEFFERSON | S9: BUTLER | T9: DE SOTO | V9: FREDERICK | W9: NORFOLK | X9: EATON | Y9: DAKOTA | Z9: HOLMES | AA9: CAPE GIRARDEAU | AB9: MISSOULA | AC9: SARPY | AF9: GLOUCESTER | AG9: Rural (Not listed as urban county) | AH9: JEFFERSON | AI9: CALDWELL | AJ9: WARD | AK9: CLERMONT | AL9: LINCOLN | AM9: JOSEPHINE | AN9: BUTLER | AO9: BARCELONETA | AQ9: DARLINGTON | AR9: UNION | AS9: CHESTER | AT9: BELL | AV9: WASHINGTON | AX9: BEDFORD | AY9: KING | AZ9: HANCOCK | BA9: FOND DU LAC
A10: ETOWAH | C10: Rural (Not listed as urban county) | D10: LONOKE | E10: LOS ANGELES | F10: ELBERT | J10: COLLIER | K10: CARROLL | N10: JEFFERSON | O10: DU PAGE | P10: DEARBORN | Q10: HARRISON | R10: JOHNSON | S10: CAMPBELL | T10: E. BATON ROUGE | V10: HARFORD | W10: PLYMOUTH | X10: GENESEE | Y10: DODGE | Z10: JACKSON | AA10: CASS | AB10: STILLWATER | AC10: SAUNDERS | AF10: HUDSON | AH10: KINGS | AI10: CAMDEN | AJ10: Rural (Not listed as urban county) | AK10: CUYAHOGA | AL10: LOGAN | AM10: LANE | AN10: CAMBRIA | AO10: BARRANQUITAS | AQ10: DORCHESTER | AR10: Rural (Not listed as urban county) | AS10: CROCKETT | AT10: BEXAR | AV10: WEBER | AX10: BOTETOURT | AY10: KITSAP | AZ10: JEFFERSON | BA10: GREEN
A11: GENEVA | D11: MADISON | E11: MADERA | F11: GILPIN | J11: DUVAL | K11: CATOOSA | N11: JEROME | O11: FORD | P11: DELAWARE | Q11: JASPER | R11: LEAVENWORTH | S11: CARLISLE | T11: EAST FELICIANA | V11: HOWARD | W11: SUFFOLK | X11: GRAND TRAVERSE | Y11: FILLMORE | Z11: LAMAR | AA11: CHRISTIAN | AB11: YELLOWSTONE | AC11: SEWARD | AF11: HUNTERDON | AH11: LIVINGSTON | AI11: CATAWBA | AK11: DELAWARE | AL11: MCCLAIN | AM11: LINN | AN11: CARBON | AO11: BAYAMON | AQ11: EDGEFIELD | AS11: DAVIDSON | AT11: BOSQUE | AV11: Rural (Not listed as urban county) | AX11: BRISTOL CITY | AY11: PIERCE | AZ11: KANAWHA | BA11: IOWA
A12: GREENE | D12: MILLER | E12: MARIN | F12: JEFFERSON | J12: ESCAMBIA | K12: CHATHAM | N12: KOOTENAI | O12: GRUNDY | P12: ELKHART | Q12: JOHNSON | R12: LINN | S12: CARTER | T12: GRANT | V12: MONTGOMERY | W12: WORCESTER | X12: INGHAM | Y12: HENNEPIN | Z12: MADISON | AA12: CLAY | AB12: Rural (Not listed as urban county) | AC12: WASHINGTON | AF12: MERCER | AH12: MADISON | AI12: CHATHAM | AK12: ERIE | AL12: OKLAHOMA | AM12: MARION | AN12: CENTRE | AO12: CABO ROJO | AQ12: FAIRFIELD | AS12: DICKSON | AT12: BOWIE | AX12: CAMPBELL | AY12: Rural (Not listed as urban county) | AZ12: MARSHALL | BA12: KENOSHA
A13: HALE | D13: PERRY | E13: MERCED | F13: LARIMER | J13: FLAGLER | K13: CHATTAHOOCHEE | N13: NEZ PERCE | O13: HENRY | P13: FLOYD | Q13: JONES | R13: MIAMI | S13: CHRISTIAN | T13: IBERVILLE | V13: PRINCE GEORGES | W13: Rural (Not listed as urban county) | X13: IONIA | Y13: HOUSTON | Z13: MARSHALL | AA13: CLINTON | AC13: Rural (Not listed as urban county) | AF13: MIDDLESEX | AH13: MONROE | AI13: CUMBERLAND | AK13: FAIRFIELD | AL13: OKMULGEE | AM13: MULTNOMAH | AN13: CHESTER | AO13: CAGUAS | AQ13: FLORENCE | AS13: FAYETTE | AT13: BRAZORIA | AX13: CHARLES CITY | AY13: SKAGIT | AZ13: MONONGALIA | BA13: KEWAUNEE
A14: HENRY | D14: POINSETT | E14: MONTEREY | F14: MESA | J14: GADSDEN | K14: CHEROKEE | N14: OWYHEE | O14: JERSEY | P14: FRANKLIN | Q14: LINN | R14: OSAGE | S14: CLARK | T14: JEFFERSON | V14: QUEEN ANNES | X14: JACKSON | Y14: ISANTI | Z14: PERRY | AA14: COLE | AF14: MONMOUTH | AH14: NASSAU | AI14: CURRITUCK | AK14: FRANKLIN | AL14: OSAGE | AM14: POLK | AN14: CUMBERLAND | AO14: CAMUY | AQ14: GREENVILLE | AS14: GIBSON | AT14: BRAZOS | AX14: CHARLOTTESVILLE CITY | AY14: SKAMANIA | AZ14: MORGAN | BA14: LA CROSSE
A15: HOUSTON | D15: PULASKI | E15: NAPA | F15: PARK | J15: GILCHRIST | K15: CLARKE | N15: TWIN FALLS | O15: KANE | P15: HAMILTON | Q15: MADISON | R15: POTTAWATOMIE | S15: DAVIESS | T15: JEFFRSON DAVIS | V15: SOMERSET | X15: KALAMAZOO | Y15: LE SUEUR | Z15: RANKIN | AA15: COOPER | AF15: MORRIS | AH15: NEW YORK | AI15: DAVIDSON | AK15: FULTON | AL15: PAWNEE | AM15: WASHINGTON | AN15: DAUPHIN | AO15: CANOVANAS | AQ15: HORRY | AS15: GRAINGER | AT15: BURLESON | AX15: CHESAPEAKE CITY | AY15: SNOHOMISH | AZ15: OHIO | BA15: MARATHON
A16: JEFFERSON | D16: SALINE | E16: ORANGE | F16: PUEBLO | J16: HERNANDO | K16: CLAYTON | N16: Rural (Not listed as urban county) | O16: KANKAKEE | P16: HANCOCK | Q16: MILLS | R16: RILEY | S16: EDMONSON | T16: LAFAYETTE | V16: ST. MARYS | X16: KALKASKA | Y16: MILLE LACS | Z16: SCOTT | AA16: DALLAS | AF16: OCEAN | AH16: NIAGARA | AI16: DAVIE | AK16: GEAUGA | AL16: ROGERS | AM16: YAMHILL | AN16: DELAWARE | AO16: CAROLINA | AQ16: JASPER | AS16: HAMBLEN | AT16: CALDWELL | AX16: CHESTERFIELD | AY16: SPOKANE | AZ16: PRESTON | BA16: MILWAUKEE
